BEGIN:VCALENDAR
VERSION:2.0
PRODID:-//Complyport - Your Trusted Partner in Governance, Risk, Compliance &amp; Technology   - ECPv6.3.5//NONSGML v1.0//EN
CALSCALE:GREGORIAN
METHOD:PUBLISH
X-WR-CALNAME:Complyport - Your Trusted Partner in Governance, Risk, Compliance &amp; Technology  
X-ORIGINAL-URL:https://complyport.com
X-WR-CALDESC:Events for Complyport - Your Trusted Partner in Governance, Risk, Compliance &amp; Technology  
REFRESH-INTERVAL;VALUE=DURATION:PT1H
X-Robots-Tag:noindex
X-PUBLISHED-TTL:PT1H
BEGIN:VTIMEZONE
TZID:Europe/London
BEGIN:DAYLIGHT
TZOFFSETFROM:+0000
TZOFFSETTO:+0100
TZNAME:BST
DTSTART:20240331T010000
END:DAYLIGHT
BEGIN:STANDARD
TZOFFSETFROM:+0100
TZOFFSETTO:+0000
TZNAME:GMT
DTSTART:20241027T010000
END:STANDARD
END:VTIMEZONE
BEGIN:VEVENT
DTSTART;TZID=Europe/London:20240703T113000
DTEND;TZID=Europe/London:20240703T120000
DTSTAMP:20260423T001835
CREATED:20240530T161619Z
LAST-MODIFIED:20240612T104914Z
UID:25864-1720006200-1720008000@complyport.com
SUMMARY:Webinar: Green Claims to Genuine Practices: Understanding the FCA’s 2024 ESG and Greenwashing Regulations
DESCRIPTION:Transparency\, honesty\, and sustainability are not just buzzwords but indispensable to the UK financial market this year. With the Financial Conduct Authority (FCA) anti-greenwashing rules coming into effect on 31st May 2024\, the expectations around sustainable finance is undergoing a significant shift. Our upcoming webinar will unravel the implications of the new regulations\, discuss actionable strategies for the impending December deadlines\, and provide a comprehensive understanding of the Environmental\, Social and Governance (ESG) market in 2024. This year will see everything from products\, promotions\, and sustainability claims come under the green microscope. The broader implications of the new Sustainable Disclosure Requirements (SDR) regime and anti-greenwashing rule demands that the financial sector uphold the highest standards of integrity in sustainability. This transformative period calls for a proactive approach to ensure that all market participants adhere to the principles of genuine sustainability.   Who is this webinar for?Our webinar is desgined for all financial industry professionals to gain clarity on the SDR and strategise their compliance. As we work with these changes\, the webinar will also explore the opportunities that arise from a more transparent ESG market\, where green finance is not just a promise\, but a practice.   Join us to delve into:The FCA’s anti-greenwashing rules;Reducing the risk of a greenwashing probe; andPreparing for the SDR regime and sustainable finance\, beyond the webinar.Details:Date: 3rd July 2024 Time: 11.30am Platform: Zoom – Live Online Duration: 30 minutes Price: Free   SpeakersNicola Christofides\, Assistant Director   Nicola Christofides\, Assistant Director of Complyport brings over 18 years of experience in Financial Services Regulation and Compliance Prior to Complyport\, Nicola worked at Barclays where she was a Senior Director in Compliance and Financial Crime leading large global teams specialising on Senior Managers Regime\, Risk\, Reporting and Governance. Nicola also had a long career at the Financial Conduct Authority (FCA) working in a number of departments including Policy\, Enforcement and Authorisations\, with her last role heading up the Governance for the FCA\, working closely with the ExCo and the Board. Ashlie Queyrel Assistant Consultant  As an Assistant Consultant in the Financial Crime and Operational Resilience team at Complyport\, Ashlie Queyrel brings a wealth of knowledge to the table. With a dedicated focus on supporting a range of clients across the indsutry and keeping them up to date with the latest market issues\, she offers comprehensive insights for firms navigating the demands of ESG. Click the button below to book a virtual seat. Book a Seat
URL:https://complyport.com/event/webinar-green-claims-to-genuine-practices-understanding-the-fcas-2024-esg-and-greenwashing-regulations/
LOCATION:Live online – Zoom
END:VEVENT
END:VCALENDAR